BEGIN:VCALENDAR
VERSION:2.0
PRODID:-//hacksw/handcal//NONSGML v1.0//EN
BEGIN:VEVENT
DTSTART:20250326T150000Z
DTEND:20250326T170000Z
LOCATION:
ORGANIZER;CN=Anouk DESMET:MAILTO:anouk.desmet@cnrs.fr
SUMMARY:Webinaire Mouv’en Santé
DESCRIPTION:Proposé par le GDR "Sports et activités physiques", ce webinaire présentera le projetMouv’en Santé, un projet de science participative qui explore les relations entre activité physique (AP), les modes...
URL:https://alumni.cnrs.fr/fr/event/webinaire-mouv-en-sante/2025/03/26/39
BEGIN:VALARM
TRIGGER:-P0DT1H0M0S
ACTION:DISPLAY
END:VALARM
END:VEVENT
END:VCALENDAR