BEGIN:VCALENDAR
VERSION:2.0
PRODID:-//hacksw/handcal//NONSGML v1.0//EN
BEGIN:VEVENT
DTSTART:20260415T160000Z
DTEND:20260415T170000Z
LOCATION:LAPP \n9 Chemin de Bellevue \n74941  Annecy
ORGANIZER;CN=Guillaume Stahl:MAILTO:guillaume.stahl@cnrs.fr
SUMMARY:Quand l’Univers brille en gamma : à la découverte des LST de CTAO
DESCRIPTION:Armand Fiasson, chercheur au LAPP, présentera une conférence grand public intitulée « Quand l’Univers brille en gamma : à la découverte des LST de CTAO ».L’astronomie gamma explore les phénomènes les ...
URL:https://alumni.cnrs.fr/fr/event/quand-l-univers-brille-en-gamma-a-la-decouverte-des-lst-de-ctao/2026/04/15/197
BEGIN:VALARM
TRIGGER:-P0DT1H0M0S
ACTION:DISPLAY
END:VALARM
END:VEVENT
END:VCALENDAR