BEGIN:VCALENDAR
VERSION:2.0
PRODID:-//hacksw/handcal//NONSGML v1.0//EN
BEGIN:VEVENT
DTSTART:20260402T163000Z
DTEND:20260402T180000Z
LOCATION:Médiathèque Emile Zola \n218 bd Aéroport International \n34000 Montpellier
ORGANIZER;CN=Anouk DESMET:MAILTO:anouk.desmet@cnrs.fr
SUMMARY:Café & Vidéo du CNRS 2026 - "La Grotte de Chauvet, dans les pas des artistes de la préhistoire"
DESCRIPTION:Projection du 2 avril 2026Les Café & Vidéo du CNRS vous invitent à découvrir les films produits ou coproduits par CNRS Images. Un jeudi par mois, assistez à la projection d’un film scientifique suivi ...
URL:https://alumni.cnrs.fr/fr/event/cafe-video-du-cnrs-2026-la-grotte-de-chauvet-dans-les-pas-des-artistes-de-la-prehistoire/2026/04/02/192
BEGIN:VALARM
TRIGGER:-P0DT1H0M0S
ACTION:DISPLAY
END:VALARM
END:VEVENT
END:VCALENDAR