BEGIN:VCALENDAR
VERSION:2.0
PRODID:-//hacksw/handcal//NONSGML v1.0//EN
BEGIN:VEVENT
DTSTART:20260302T183000Z
DTEND:20260302T200000Z
LOCATION:Bistro des Tilleuls \nw13 chemin de la Prairie \n74000 ANNECY
ORGANIZER;CN=Guillaume Stahl:MAILTO:guillaume.stahl@cnrs.fr
SUMMARY:[BRASSERIE DES SCIENCES]  L’intelligence émotionnelle : une clé pour vivre ensemble et améliorer notre santé ?
DESCRIPTION:Par Michèle Magnin-Tondeur, cheffe de service Mission santé à la ville d'Annecy\nJoie, peur, colère, tristesse, surprise, dégoût, gratitude, émerveillement… toutes les émotions ont leur place dans nos...
URL:https://alumni.cnrs.fr/fr/event/-brasserie-des-sciences-l-intelligence-emotionnelle-une-cle-pour-vivre-ensemble-et-ameliorer-notre-sante/2026/03/02/164
BEGIN:VALARM
TRIGGER:-P0DT1H0M0S
ACTION:DISPLAY
END:VALARM
END:VEVENT
END:VCALENDAR