BEGIN:VCALENDAR
VERSION:2.0
PRODID:-//hacksw/handcal//NONSGML v1.0//EN
BEGIN:VEVENT
DTSTART:20260211T123000Z
DTEND:20260211T160000Z
LOCATION:
ORGANIZER;CN=Guillaume Stahl:MAILTO:guillaume.stahl@cnrs.fr
SUMMARY:« Comment l’égalité est devenue l’affaire de tous et toutes au CNRS : 25 ans de dynamique collective ».
DESCRIPTION:Bonjour, Nous avons le plaisir de vous inviter à participer au webinaire\n« Comment l’égalité est devenue l’affaire de tous et toutes au CNRS : 25 ans de dynamique collective ». Depuis la création de ...
URL:https://alumni.cnrs.fr/fr/event/-comment-l-egalite-est-devenue-l-affaire-de-tous-et-toutes-au-cnrs-25-ans-de-dynamique-collective/2026/02/11/151
BEGIN:VALARM
TRIGGER:-P0DT1H0M0S
ACTION:DISPLAY
END:VALARM
END:VEVENT
END:VCALENDAR