BEGIN:VCALENDAR
VERSION:2.0
PRODID:-//hacksw/handcal//NONSGML v1.0//EN
BEGIN:VEVENT
DTSTART:20260115T120000Z
DTEND:20260115T130000Z
LOCATION:https://cnrs.zoom.us/j/93046333898?pwd=evp3i7P0r95eObOWJdRJsw55eZN57x.1
ORGANIZER;CN=Anouk DESMET:MAILTO:anouk.desmet@cnrs.fr
SUMMARY:La grotte Chauvet, l'aventure scientifique, avec Carole Fritz
DESCRIPTION:🗓️ Votre prochain webinaire CNRS alumni !Rendez-vous le jeudi 15 janvier de 13h à 14h pour un nouveau "webi-sandwich" dédié à la culture scientifique.Ce mois-ci, nous prenons la machine à remonter le ...
URL:https://alumni.cnrs.fr/fr/event/la-grotte-chauvet-l-aventure-scientifique-avec-carole-fritz/2026/01/15/147
BEGIN:VALARM
TRIGGER:-P0DT1H0M0S
ACTION:DISPLAY
END:VALARM
END:VEVENT
END:VCALENDAR