BEGIN:VCALENDAR
VERSION:2.0
PRODID:-//hacksw/handcal//NONSGML v1.0//EN
BEGIN:VEVENT
DTSTART:20251119T120000Z
DTEND:20251119T130000Z
LOCATION:https://cnrs.zoom.us/j/95285049387?pwd=7iHFxLmUNwGbqO8yh7jYAa8sU3sbY7.1
ORGANIZER;CN=Anouk DESMET:MAILTO:anouk.desmet@cnrs.fr
SUMMARY:10 ans après le 13 novembre : que dit la science des attentats, avec Denis Peschanski
DESCRIPTION:Code d'accès du webinar DVBLt2...
URL:https://alumni.cnrs.fr/fr/event/10-ans-apres-le-13-novembre-que-dit-la-science-des-attentats-avec-denis-peschanski/2025/11/19/129
BEGIN:VALARM
TRIGGER:-P0DT1H0M0S
ACTION:DISPLAY
END:VALARM
END:VEVENT
END:VCALENDAR