BEGIN:VCALENDAR
VERSION:2.0
PRODID:-//hacksw/handcal//NONSGML v1.0//EN
BEGIN:VEVENT
DTSTART:20260504T150000Z
DTEND:20260504T170000Z
LOCATION:Université de Berne - Bâtiment Sciences Exactes - Salle 099 \nSidlerstrasse 5 \n3012 Bern
ORGANIZER;CN=Guillaume Stahl:MAILTO:guillaume.stahl@cnrs.fr
SUMMARY:Explorer l’univers, transformer la médecine
DESCRIPTION:Conférence + Table RondeExplorer l’univers, transformer la médecineL’exploration de l’espace offre un terrain unique pour comprendre et améliorer la santé humaine. L’astronaute Claudie Haigneré et son...
URL:https://alumni.cnrs.fr/en/event/-explorer-l-univers-transformer-la-medecine/2026/05/04/202
BEGIN:VALARM
TRIGGER:-P0DT1H0M0S
ACTION:DISPLAY
END:VALARM
END:VEVENT
END:VCALENDAR