BEGIN:VCALENDAR
VERSION:2.0
PRODID:-//hacksw/handcal//NONSGML v1.0//EN
BEGIN:VEVENT
DTSTART:20260421T153000Z
DTEND:20260421T180000Z
LOCATION:Amphi Marie Curie \n1 rue Pierre et Marie Curie \n75005 Paris
ORGANIZER;CN=Anouk DESMET:MAILTO:anouk.desmet@cnrs.fr
SUMMARY::united_kingdom:  CNRS alumni Meetups #3 Paris Île-de-France
DESCRIPTION:CNRS alumni and the Île-de-France group are at it again, inviting you to a new gathering... at one of our alumni’s place!!Our colleague and network member, Denis Guthleben, director of the Musée...
URL:https://alumni.cnrs.fr/en/event/-united-kingdom-cnrs-alumni-meetups-3-paris-ile-de-france/2026/04/21/198
BEGIN:VALARM
TRIGGER:-P0DT1H0M0S
ACTION:DISPLAY
END:VALARM
END:VEVENT
END:VCALENDAR