BEGIN:VCALENDAR
VERSION:2.0
PRODID:-//hacksw/handcal//NONSGML v1.0//EN
BEGIN:VEVENT
DTSTART:20260311T120000Z
DTEND:20260311T130000Z
LOCATION:https://webinaire.numerique.gouv.fr/meeting/signin/invite/73344/creator/42913/hash/a875db6eb09a3ad321e82e6c44cfd695f3b7e8d4
ORGANIZER;CN=Anouk DESMET:MAILTO:anouk.desmet@cnrs.fr
SUMMARY::united_kingdom: The Great Green Wall, with Gilles Boëtsch
DESCRIPTION:🗓️ Your Next CNRS alumni Webinar !Join us on Wednesday, March 11, from 1:00 PM to 2:00 PM for a new "webi-sandwich" dedicated to scientific culture.This month, we will welcome our alumni colleague...
URL:https://alumni.cnrs.fr/en/event/-united-kingdom-the-great-green-wall-with-gilles-boetsch/2026/03/11/170
BEGIN:VALARM
TRIGGER:-P0DT1H0M0S
ACTION:DISPLAY
END:VALARM
END:VEVENT
END:VCALENDAR