BEGIN:VCALENDAR
VERSION:2.0
PRODID:-//hacksw/handcal//NONSGML v1.0//EN
BEGIN:VEVENT
DTSTART:20260324T080000Z
DTEND:20260324T180000Z
LOCATION:UFR des Sciences et Techniques de l’université de Rouen Normandie \nAvenue de l'Université \n76800 Saint-Étienne-du-Rouvray
ORGANIZER;CN=Anouk DESMET:MAILTO:anouk.desmet@cnrs.fr
SUMMARY:Rencontres normandes de l’innovation sociétale et environnementale
DESCRIPTION:Chercheuses, chercheurs, actrices et acteurs de l’innovation : le Pôle universitaire d'innovation (PUI) Normandie vous invite aux « Rencontres normandes de l’innovation sociétale et environnementale...
URL:https://alumni.cnrs.fr/en/event/rencontres-normandes-de-l-innovation-societale-et-environnementale/2026/03/24/160
BEGIN:VALARM
TRIGGER:-P0DT1H0M0S
ACTION:DISPLAY
END:VALARM
END:VEVENT
END:VCALENDAR