BEGIN:VCALENDAR
VERSION:2.0
PRODID:-//hacksw/handcal//NONSGML v1.0//EN
BEGIN:VEVENT
DTSTART:20260115T120000Z
DTEND:20260115T130000Z
LOCATION:https://cnrs.zoom.us/j/93046333898?pwd=evp3i7P0r95eObOWJdRJsw55eZN57x.1
ORGANIZER;CN=Anouk DESMET:MAILTO:anouk.desmet@cnrs.fr
SUMMARY::united_kingdom: The Chauvet Cave: a scientific adventure with Carole Fritz
DESCRIPTION:🗓️ Your Next CNRS alumni Webinar !Join us on Thursday, January 15, from 1:00 PM to 2:00 PM for a new "webi-sandwich" dedicated to scientific culture .This month, we’re hopping into a time machine for ...
URL:https://alumni.cnrs.fr/en/event/-united-kingdom-the-chauvet-cave-a-scientific-adventure-with-carole-fritz/2026/01/15/147
BEGIN:VALARM
TRIGGER:-P0DT1H0M0S
ACTION:DISPLAY
END:VALARM
END:VEVENT
END:VCALENDAR